BEGIN:VCALENDAR
VERSION:2.0
PRODID:icalendar-ruby
CALSCALE:GREGORIAN
METHOD:PUBLISH
BEGIN:VEVENT
DTSTAMP:20260422T161150Z
UID:151-881857@graceofsummerlin.org
DTSTART:20261107T153000Z
DTEND:20261107T220000Z
CLASS:PUBLIC
CREATED:20260223T173916
DESCRIPTION:Ambassador Training Session\n 
LAST-MODIFIED:20260223T173916
LOCATION:Parish Hall
SUMMARY:Best Buddies - Ambassador Training Session
URL;VALUE=URI:https://graceofsummerlin.org/events/best-buddies-ambassador-t
 raining-session--151/2026-11-07
END:VEVENT
END:VCALENDAR
