BEGIN:VCALENDAR
VERSION:2.0
PRODID:icalendar-ruby
CALSCALE:GREGORIAN
METHOD:PUBLISH
BEGIN:VEVENT
DTSTAMP:20260425T035722Z
UID:117-1441022@graceofsummerlin.org
DTSTART:20261021T153000Z
DTEND:20261021T160000Z
CLASS:PUBLIC
CREATED:20260424T193237
DESCRIPTION:
LAST-MODIFIED:20260424T193237
LOCATION:Chapel 
SUMMARY:Morning Prayer 
URL;VALUE=URI:https://graceofsummerlin.org/events/morning-prayer--117/2026-
 10-21
END:VEVENT
END:VCALENDAR
