BEGIN:VCALENDAR
VERSION:2.0
PRODID:icalendar-ruby
CALSCALE:GREGORIAN
METHOD:PUBLISH
BEGIN:VEVENT
DTSTAMP:20260422T040424Z
UID:155-1412213@graceofsummerlin.org
DTSTART:20260925T170000Z
DTEND:20260925T190000Z
CLASS:PUBLIC
CREATED:20260421T182038
DESCRIPTION:private(C)\n \n02/25/26-rb\nupdated/removed 04/03\, on 04/01-r
 b
LAST-MODIFIED:20260421T182038
LOCATION:
SUMMARY:Rehearsal - Private
URL;VALUE=URI:https://graceofsummerlin.org/events/rehearsal-private--155/20
 26-09-25
END:VEVENT
END:VCALENDAR
