BEGIN:VCALENDAR
VERSION:2.0
PRODID:icalendar-ruby
CALSCALE:GREGORIAN
METHOD:PUBLISH
BEGIN:VEVENT
DTSTAMP:20260424T000046Z
UID:147-1428258@graceofsummerlin.org
DTSTART:20261012T183000Z
DTEND:20261012T193000Z
CLASS:PUBLIC
CREATED:20260423T141245
DESCRIPTION:private 
LAST-MODIFIED:20260423T141245
LOCATION:Nave
SUMMARY:Rehearsal - Private 
URL;VALUE=URI:https://graceofsummerlin.org/events/rehearsal-private/2026-10
 -12
END:VEVENT
END:VCALENDAR
