BEGIN:VCALENDAR
VERSION:2.0
PRODID:icalendar-ruby
CALSCALE:GREGORIAN
METHOD:PUBLISH
BEGIN:VEVENT
DTSTAMP:20260424T014725Z
UID:147-1429873@graceofsummerlin.org
DTSTART:20261019T183000Z
DTEND:20261019T193000Z
CLASS:PUBLIC
CREATED:20260423T170602
DESCRIPTION:private 
LAST-MODIFIED:20260423T170602
LOCATION:Nave
SUMMARY:Rehearsal - Private 
URL;VALUE=URI:https://graceofsummerlin.org/events/rehearsal-private/2026-10
 -19
END:VEVENT
END:VCALENDAR
