BEGIN:VCALENDAR
VERSION:2.0
PRODID:icalendar-ruby
CALSCALE:GREGORIAN
METHOD:PUBLISH
BEGIN:VEVENT
DTSTAMP:20260424T033817Z
UID:147-1431488@graceofsummerlin.org
DTSTART:20261026T183000Z
DTEND:20261026T193000Z
CLASS:PUBLIC
CREATED:20260423T200031
DESCRIPTION:private 
LAST-MODIFIED:20260423T200031
LOCATION:Nave
SUMMARY:Rehearsal - Private 
URL;VALUE=URI:https://graceofsummerlin.org/events/rehearsal-private/2026-10
 -26
END:VEVENT
END:VCALENDAR
