BEGIN:VCALENDAR
VERSION:2.0
PRODID:icalendar-ruby
CALSCALE:GREGORIAN
METHOD:PUBLISH
BEGIN:VEVENT
DTSTAMP:20260424T045750Z
UID:147-1431489@graceofsummerlin.org
DTSTART:20261102T193000Z
DTEND:20261102T203000Z
CLASS:PUBLIC
CREATED:20260423T200031
DESCRIPTION:private 
LAST-MODIFIED:20260423T200031
LOCATION:Nave
SUMMARY:Rehearsal - Private 
URL;VALUE=URI:https://graceofsummerlin.org/events/rehearsal-private/2026-11
 -02
END:VEVENT
END:VCALENDAR
